BEGIN:VCALENDAR
VERSION:2.0
PRODID:-//eventon.com NONSGML v1.0//EN
CALSCALE:GREGORIAN
METHOD:PUBLISH
BEGIN:VEVENT
UID:69e7348dcbeb5
DTSTAMP:20260421T082549Z
DTSTART:20270128T170000Z
DTEND:20270128T193000Z
LOCATION:Chrischona Gemeinde Heinebach Borngasse 45\,  36211 Alheim-Heinebach
SUMMARY:Rock-Solid-Club
DESCRIPTION:Alle 14 Tage Donnerstag treffen sich ca. 15-20 Teens im Rock-So
 lid-Club! Rock Solid ist eine Mischung aus Spaß und Spiel\,  Knüpfen von
  Freundschaften\,  Aktion und ernsthaften Gesprächen über „Gott und die
  Welt“. Wenn du in der 7. Klasse oder älter bist\,  dann schau doch mal 
 bei uns vorbei. Wir treffen uns[..]\nhttps://www.chrischona-braach.de/event
 s/rock-solid-club/var/ri-27.l-L1
URL:https://www.chrischona-braach.de/events/rock-solid-club/var/ri-27.l-L1
END:VEVENT
END:VCALENDAR