BEGIN:VCALENDAR
VERSION:2.0
PRODID:-//eventon.com NONSGML v1.0//EN
CALSCALE:GREGORIAN
METHOD:PUBLISH
BEGIN:VEVENT
UID:69e7c13be8356
DTSTAMP:20260421T182603Z
DTSTART:20240427T080000Z
DTEND:20240427T110000Z
LOCATION:
SUMMARY:Arbeitseinsatz - Garten&Haus
DESCRIPTION:Arbeitseinsatz - Garten&Haus\nhttps://www.chrischona-braach.de/
 events/arbeitseinsatz-gartenhaus/
URL:https://www.chrischona-braach.de/events/arbeitseinsatz-gartenhaus/
END:VEVENT
END:VCALENDAR