BEGIN:VCALENDAR
VERSION:2.0
PRODID:-//eventon.com NONSGML v1.0//EN
CALSCALE:GREGORIAN
METHOD:PUBLISH
BEGIN:VEVENT
UID:69e7daf689730
DTSTAMP:20260421T201550Z
DTSTART:20240526T083000Z
DTEND:20240526T100000Z
LOCATION:
SUMMARY:Taufgottesdienst
DESCRIPTION:Taufgottesdienst\nhttps://www.chrischona-braach.de/events/taufg
 ottesdienst/
URL:https://www.chrischona-braach.de/events/taufgottesdienst/
END:VEVENT
END:VCALENDAR