BEGIN:VCALENDAR
VERSION:2.0
PRODID:-//eventon.com NONSGML v1.0//EN
CALSCALE:GREGORIAN
METHOD:PUBLISH
BEGIN:VEVENT
UID:69e7f0f490534
DTSTAMP:20260421T214940Z
DTSTART:20240605T180000Z
DTEND:20240605T215900Z
LOCATION:Chrischona Gemeinde Heinebach Borngasse 45\,  36211 Alheim-Heinebach
SUMMARY:Theologischer Abend - Wer bin ich als Christ?
DESCRIPTION:Theologischer Abend - Wer bin ich als Christ?\nhttps://www.chri
 schona-braach.de/events/theologischer-abend-2/
URL:https://www.chrischona-braach.de/events/theologischer-abend-2/
END:VEVENT
END:VCALENDAR