BEGIN:VCALENDAR
VERSION:2.0
PRODID:-//eventon.com NONSGML v1.0//EN
CALSCALE:GREGORIAN
METHOD:PUBLISH
BEGIN:VEVENT
UID:69e809be1e37b
DTSTAMP:20260421T233526Z
DTSTART:20241102T090000Z
DTEND:20241102T120000Z
LOCATION:
SUMMARY:Arbeitseinsatz - Garten&Haus
DESCRIPTION:Arbeitseinsatz - Garten&Haus\nhttps://www.chrischona-braach.de/
 events/arbeitseinsatz-gartenhaus-2/
URL:https://www.chrischona-braach.de/events/arbeitseinsatz-gartenhaus-2/
END:VEVENT
END:VCALENDAR