BEGIN:VCALENDAR
VERSION:2.0
PRODID:-//eventon.com NONSGML v1.0//EN
CALSCALE:GREGORIAN
METHOD:PUBLISH
BEGIN:VEVENT
UID:69e8266231572
DTSTAMP:20260422T013738Z
DTSTART:20241009T180000Z
DTEND:20241009T215900Z
LOCATION:Chrischona Gemeinde Heinebach Borngasse 45\,  36211 Alheim-Heinebach
SUMMARY:Theologischer Abend
DESCRIPTION:Theologischer Abend\nhttps://www.chrischona-braach.de/events/th
 eologischer-abend-3/
URL:https://www.chrischona-braach.de/events/theologischer-abend-3/
END:VEVENT
END:VCALENDAR