BEGIN:VCALENDAR
VERSION:2.0
PRODID:-//eventon.com NONSGML v1.0//EN
CALSCALE:GREGORIAN
METHOD:PUBLISH
BEGIN:VEVENT
UID:69e83f314207f
DTSTAMP:20260422T032329Z
DTSTART:20240929T130000Z
DTEND:20240929T215900Z
LOCATION:
SUMMARY:Kreativ-Café
DESCRIPTION:am Sonntag\,  den 21.04 ab 15 Uhr in der evangelischen Chrischo
 na Gemeinde Am Schindleich 4 in Braach Sei dabei und bring DEIN Projekt mit
 \,  ob Nähen\,  Stricken\,  Zeichnen\,  Basteln denk an alles was du dazu 
 brauchst (Nahmaschine\,  Stoff\,  Verlängerungskabel etc) Kreativ sein und
  inspirieren lassen\,  bei Kaffee und Geback\nhttps://www.chrischona-braach
 .de/events/kreativ-cafe-2/
URL:https://www.chrischona-braach.de/events/kreativ-cafe-2/
END:VEVENT
END:VCALENDAR