BEGIN:VCALENDAR
VERSION:2.0
PRODID:-//eventon.com NONSGML v1.0//EN
CALSCALE:GREGORIAN
METHOD:PUBLISH
BEGIN:VEVENT
UID:69e857c8bdaa9
DTSTAMP:20260422T050824Z
DTSTART:20240711T181500Z
DTEND:20240711T215900Z
LOCATION:
SUMMARY:The Walking Dads
DESCRIPTION:Hauskreis für junge Väter Wir treffen uns donnerstags zwische
 n 20:00 und 20:30 Uhr\,  in der Regel im Gemeindehaus oder nach Absprache.\
 nhttps://www.chrischona-braach.de/events/the-walking-dads/
URL:https://www.chrischona-braach.de/events/the-walking-dads/
END:VEVENT
END:VCALENDAR