BEGIN:VCALENDAR
VERSION:2.0
PRODID:-//eventon.com NONSGML v1.0//EN
CALSCALE:GREGORIAN
METHOD:PUBLISH
BEGIN:VEVENT
UID:69e87181cbdb5
DTSTAMP:20260422T065809Z
DTSTART:20240620T180000Z
DTEND:20240620T215900Z
LOCATION:Chrischona Gemeinde Braach Am Schindleich 4\,  36199 Rotenburg-Braach
SUMMARY:Israel-Abend - Lernen vom Leben und Glauben im Nahen Osten
DESCRIPTION:Benjamin ist als Autor für diverse Magazine\,  darunter auch f
 ür den SCM Bundes-Verlag\,  tätig. Für Fokus Jerusalem TV arbeitet er al
 s freier Redakteur und tritt auch gelegentlich vor der Kamera auf. Als Ehep
 aar unterstützten sie im Rahmen von amzi soziale Projekte in Israel. In se
 inen Vorträgen bietet er tiefgehende Einblicke[..]\nhttps://www.chrischona
 -braach.de/events/israel-abend-lernen-vom-leben-und-glauben-im-nahen-osten/
URL:https://www.chrischona-braach.de/events/israel-abend-lernen-vom-leben-und-glauben-im-nahen-osten/
END:VEVENT
END:VCALENDAR