BEGIN:VCALENDAR
VERSION:2.0
PRODID:-//eventon.com NONSGML v1.0//EN
CALSCALE:GREGORIAN
METHOD:PUBLISH
BEGIN:VEVENT
UID:69e8a7ea56fb8
DTSTAMP:20260422T105018Z
DTSTART:20240706T093000Z
DTEND:20240706T215900Z
LOCATION:
SUMMARY:Ausflug mit Führung - Erlebnisbergwerk Merkers
DESCRIPTION:Anmeldeschluss: 7. Juni 2024 bei Jürgen Heußner (Heinebach) u
 nd Hermann Heußner (Braach) &#8211; PLÄTZE SIND BEGRENZT Dauer: 2\, 5 Stu
 nden Abfahrt an den Gemeinden um 11.30Uhr in Fahrgemeinschaften Kosten: 28 
 € für das Bergwerk + Beitrag für jeweiligen Autofahrer Alter: ab 10 Jah
 ren Keine Barrierefreiheit Im Anschluss der Führung: Bring und[..]\nhttps:
 //www.chrischona-braach.de/events/ausflug-mit-fuehrung-erlebnisbergwerk-mer
 kers/
URL:https://www.chrischona-braach.de/events/ausflug-mit-fuehrung-erlebnisbergwerk-merkers/
END:VEVENT
END:VCALENDAR