BEGIN:VCALENDAR
VERSION:2.0
PRODID:-//eventon.com NONSGML v1.0//EN
CALSCALE:GREGORIAN
METHOD:PUBLISH
BEGIN:VEVENT
UID:69e8d9e7c83ff
DTSTAMP:20260422T142335Z
DTSTART:20240728T083000Z
DTEND:20240728T215900Z
LOCATION:
SUMMARY:Bezirksgottesdienst in Braach
DESCRIPTION:Bezirksgottesdienst in Braach\nhttps://www.chrischona-braach.de
 /events/bezirksgottesdienst-in-braach/
URL:https://www.chrischona-braach.de/events/bezirksgottesdienst-in-braach/
END:VEVENT
END:VCALENDAR