BEGIN:VCALENDAR
VERSION:2.0
PRODID:-//eventon.com NONSGML v1.0//EN
CALSCALE:GREGORIAN
METHOD:PUBLISH
BEGIN:VEVENT
UID:69e910ab2e067
DTSTAMP:20260422T181715Z
DTSTART:20240804T080000Z
DTEND:20240804T215900Z
LOCATION:Chrischona Gemeinde Heinebach Borngasse 45\,  36211 Alheim-Heinebach
SUMMARY:Bezirksgottesdienst in Heinebach
DESCRIPTION:Bezirksgottesdienst in Heinebach\nhttps://www.chrischona-braach
 .de/events/bezirksgottesdienst-in-heinebach/
URL:https://www.chrischona-braach.de/events/bezirksgottesdienst-in-heinebach/
END:VEVENT
END:VCALENDAR