BEGIN:VCALENDAR
VERSION:2.0
PRODID:-//eventon.com NONSGML v1.0//EN
CALSCALE:GREGORIAN
METHOD:PUBLISH
BEGIN:VEVENT
UID:69e6b731d983a
DTSTAMP:20260420T233057Z
DTSTART:20240922T083000Z
DTEND:20240922T215900Z
LOCATION:
SUMMARY:Bezirksfest im Schosspark in Rotenburg
DESCRIPTION:Bezirksfest im Schosspark in Rotenburg\nhttps://www.chrischona-
 braach.de/events/bezirksfest-im-schosspark-in-rotenburg/
URL:https://www.chrischona-braach.de/events/bezirksfest-im-schosspark-in-rotenburg/
END:VEVENT
END:VCALENDAR