BEGIN:VCALENDAR
VERSION:2.0
PRODID:-//eventon.com NONSGML v1.0//EN
CALSCALE:GREGORIAN
METHOD:PUBLISH
BEGIN:VEVENT
UID:69e6650608407
DTSTAMP:20260420T174022Z
DTSTART:20240924T170000Z
DTEND:20240924T215900Z
LOCATION:
SUMMARY:Der Segen bleibt - Stufen des Lebens
DESCRIPTION:Wir alle sind in unserem Leben unterwegs und suchen ein Ziel\, 
  für das es sich zu Leben lohnt. Jeder Mensch geht Stufe um Stufe seinen W
 eg. Dabei brechen Fragen nach Lebenssinn und Lebensperspektive auf. KURSLEI
 TUNG: Doris Schaefer\,  Maike u. Hermann Heußner Anmeldung: Hermann Heußn
 er 06623 41822 Termine: Dienstag jeweils 19.00[..]\nhttps://www.chrischona-
 braach.de/events/der-segen-bleibt-stufen-des-lebens-2-2-2/
URL:https://www.chrischona-braach.de/events/der-segen-bleibt-stufen-des-lebens-2-2-2/
END:VEVENT
END:VCALENDAR