BEGIN:VCALENDAR
VERSION:2.0
PRODID:-//eventon.com NONSGML v1.0//EN
CALSCALE:GREGORIAN
METHOD:PUBLISH
BEGIN:VEVENT
UID:69e6521701b52
DTSTAMP:20260420T161935Z
DTSTART:20241012T120000Z
DTEND:20241012T215900Z
LOCATION:
SUMMARY:Wanderung mit Waldbaden (Generation Plus)
DESCRIPTION:\nhttps://www.chrischona-braach.de/events/wanderung-mit-waldbad
 en-generation-plus/
URL:https://www.chrischona-braach.de/events/wanderung-mit-waldbaden-generation-plus/
END:VEVENT
END:VCALENDAR