BEGIN:VCALENDAR
VERSION:2.0
PRODID:-//eventon.com NONSGML v1.0//EN
CALSCALE:GREGORIAN
METHOD:PUBLISH
BEGIN:VEVENT
UID:69e73725711a3
DTSTAMP:20260421T083653Z
DTSTART:20251121T183000Z
DTEND:20251121T225900Z
LOCATION:Kulturscheune Hof Hafermas Rotenburger Str. 13\,  36199 Rotenburg an der Fulda
SUMMARY:Ein Bräächer in China
DESCRIPTION:Ein Erlebnisbericht von Peter Heußner\nhttps://www.chrischona-
 braach.de/events/ein-braeaecher-in-china/
URL:https://www.chrischona-braach.de/events/ein-braeaecher-in-china/
END:VEVENT
END:VCALENDAR