BEGIN:VCALENDAR
VERSION:2.0
PRODID:-//eventon.com NONSGML v1.0//EN
CALSCALE:GREGORIAN
METHOD:PUBLISH
BEGIN:VEVENT
UID:69e5dde37c65f
DTSTAMP:20260420T080347Z
DTSTART:20251108T140000Z
DTEND:20251108T170000Z
LOCATION:Chrischona Gemeinde Heinebach Borngasse 45\,  36211 Alheim-Heinebach
SUMMARY:OM-Wochenende mit Andreas Eckel
DESCRIPTION:Thema: Gemeinde im Aufbruch &#8211; Jünger die Jünger machen 
 Samstag\,  08.11. | 15:00 Uhr bis 18:00 Uhr | Heinebach Workshop missionari
 sche Jüngerschaft mit Kaffee &amp; Waffeln Sonntag\,  09.11. |10:30 Uhr | 
 Braach Bezirksgottesdienst mit Andreas Eckel Seit über 60 Jahren engagiert
  sich OM auf der ganzen Welt\,  damit Jesus-Nachfolger motiviert[..]\nhttps
 ://www.chrischona-braach.de/events/om-wochenende-mit-andreas-eckel/
URL:https://www.chrischona-braach.de/events/om-wochenende-mit-andreas-eckel/
END:VEVENT
END:VCALENDAR