BEGIN:VCALENDAR
VERSION:2.0
PRODID:-//eventon.com NONSGML v1.0//EN
CALSCALE:GREGORIAN
METHOD:PUBLISH
BEGIN:VEVENT
UID:69e738b7e1137
DTSTAMP:20260421T084335Z
DTSTART:20260104T093000Z
DTEND:20260104T225900Z
LOCATION:Chrischona Gemeinde Braach Am Schindleich 4\,  36199 Rotenburg-Braach
SUMMARY:Bezirksgottesdienst zum neuen Jahr in Braach
DESCRIPTION:Bezirksgottesdienst zum neuen Jahr in Braach\nhttps://www.chris
 chona-braach.de/events/bezirksgottesdienst-zum-neuen-jahr-in-braach/
URL:https://www.chrischona-braach.de/events/bezirksgottesdienst-zum-neuen-jahr-in-braach/
END:VEVENT
END:VCALENDAR