BEGIN:VCALENDAR
VERSION:2.0
PRODID:-//eventon.com NONSGML v1.0//EN
CALSCALE:GREGORIAN
METHOD:PUBLISH
BEGIN:VEVENT
UID:69e7399510603
DTSTAMP:20260421T084717Z
DTSTART:20251231T150000Z
DTEND:20251231T225900Z
LOCATION:
SUMMARY:Jahres-Abschluss-Gottesdienst
DESCRIPTION:Jahres-Abschluss-Gottesdienst\nhttps://www.chrischona-braach.de
 /events/jahres-abschluss-gottesdienst/
URL:https://www.chrischona-braach.de/events/jahres-abschluss-gottesdienst/
END:VEVENT
END:VCALENDAR