BEGIN:VCALENDAR
VERSION:2.0
PRODID:-//eventon.com NONSGML v1.0//EN
CALSCALE:GREGORIAN
METHOD:PUBLISH
BEGIN:VEVENT
UID:69e5df5f3276e
DTSTAMP:20260420T081007Z
DTSTART:20260218T140000Z
DTEND:20260218T225900Z
LOCATION:
SUMMARY:Seniorennachmittag
DESCRIPTION:Seniorennachmittag\nhttps://www.chrischona-braach.de/events/sen
 iorennachmittag-2/
URL:https://www.chrischona-braach.de/events/seniorennachmittag-2/
END:VEVENT
END:VCALENDAR