BEGIN:VCALENDAR
VERSION:2.0
PRODID:-//eventon.com NONSGML v1.0//EN
CALSCALE:GREGORIAN
METHOD:PUBLISH
BEGIN:VEVENT
UID:69e5e090ee26d
DTSTAMP:20260420T081512Z
DTSTART:20260222T150000Z
DTEND:20260222T225900Z
LOCATION:
SUMMARY:Abendgottesdienst
DESCRIPTION:ab 15.30h mit Kaffee und Kuchen 16.00h mit Musik\,  Kreativem\,
   Talk\,  Impuls 17:30h mit Fingerfood und &#8222;Open End\nhttps://www.chr
 ischona-braach.de/events/abendgottesdienst-3/
URL:https://www.chrischona-braach.de/events/abendgottesdienst-3/
END:VEVENT
END:VCALENDAR